Workbook

Sheet Ε.Φ. 101
C2: ΓΡΑΦΙΚΗ ΥΛΗ
C4: ΠΙΝΑΚΑΣ 1
C6: Ε.Φ. 1031-101 0000000
B8: Α/Α | C8: ΕΙΔΟΣ | D8: ΤΕΜΑΧΙΑ | E8: EKT.ΤΙΜΗ /TEM. | F8: ΣΥΝΟΛΟ ΑΝΑ ΕΙΔΟΣ ΣΕ €
B9: 1 | C9: ΓΟΜΕΣ ΣΧΕΔΙΟΥ ΛΕΥΚΕΣ 20Χ60 | D9: 10
B10: =B9+1 -> 2 | C10: ΑΥΤΟΚΟΛΛΗΤΑ ΧΑΡΤΑΚΙΑ (POST IT) 75X75 | D10: 60
B11: =B10+1 -> 3 | C11: ΦΑΚΕΛΟΙ ΜΕ ΛΑΣΤΙΧΟ (ΜΠΛΕ-ΜΑΥΡΟ-ΜΠΟΡΝΤΟ-ΠΟΡΤΟΚΑΛΙ) | D11: 800
B12: =B11+1 -> 4 | C12: ΔΙΟΡΘΩΤΙΚΑ (ΤΥΠΟΥ PRITT ) ΣΕΤ | D12: 50
B13: =B12+1 -> 5 | C13: ΣΥΡΡΑΦΙΔΕΣ 24/6 MAESTRI (ΤΥΠΟΥ VETO) | D13: 150
B14: =B13+1 -> 6 | C14: ΠΕΡΦΟΡΑΤΕΡ 30 ΦΥΛΛΩΝ | D14: 5
B15: =B14+1 -> 7 | C15: ΖΕΛΑΤΙΝΕΣ ΤΥΠΟΥ L | D15: 200
B16: =B15+1 -> 8 | C16: ΖΕΛΑΤΙΝΕΣ ΜΕ ΤΡΥΠΕΣ ΓΙΑ ΚΛΑΣΕΡ | D16: 500
B17: =B16+1 -> 9 | C17: ΣΤΥΛΟ ΤΥΠΟΥ PELECAN STICK (συνενόηση για χρώματα) | D17: 400
B18: =B17+1 -> 10 | C18: φΑΚΕΛΟΙ ΜΕ ΕΛΑΣΜΑ τύπου LEITZ (ΜΑΥΡΟ-ΜΠΛΕ-ΜΠΟΡΝΤΟ) | D18: 600
B19: =B18+1 -> 11 | C19: ΑΠΟΣΥΡΡΑΠΤΙΚΑ | D19: 5
B20: =B19+1 -> 12 | C20: ΜΑΡΚΑΔΟΡΟΙ ΥΠΟΓΡΑΜΜΙΣΗΣ ΚΙΤΡΙΝΟΙ (ΤΥΠΟΥ STABILO) | D20: 50
B21: =B20+1 -> 13 | C21: ΚΛΑΣΕΡ 8 Χ 34 ΣΥΝΝΕΦΟ | D21: 300
... B32: =B31+1 -> 24 | C32: ΜΗΧΑΝΙΚΟ ΜΟΛΥΒΙ 0,50 mm | D32: 20
B35: ΣΥΝΟΛΟ
B36: ΦΠΑ 24%
B37: ΣΥΝΟΛΟ

Sheet Ε.Φ 203
C2: ΓΡΑΦΙΚΗ ΥΛΗ
C4: ΠΙΝΑΚΑΣ 2
C6: Ε.Φ. 1031-203 0000000
B8: Α/Α | C8: ΕΙΔΟΣ | D8: ΤΕΜΑΧΙΑ | E8: EKT.ΤΙΜΗ /TEM. | F8: ΣΥΝΟΛΟ ΑΝΑ ΕΙΔΟΣ ΣΕ €
B9: 1 | C9: ΓΟΜΕΣ ΣΧΕΔΙΟΥ ΛΕΥΚΕΣ 20Χ60 | D9: 50
B10: =B9+1 -> 2 | C10: ΖΕΛΑΤΙΝΕΣ ΤΥΠΟΥ L | D10: 500
B11: =B10+1 -> 3 | C11: ΠΕΡΦΟΡΑΤΕΡ 30 ΦΥΛΛΩΝ | D11: 5
B12: =B11+1 -> 4 | C12: ΣΥΝΔΕΤΗΡΕΣ Νο 78 ( ΤΥΠΟΥ VETO) | D12: 200
B13: =B12+1 -> 5 | C13: ΜΑΡΚΑΔΟΡΟΙ ΧΟΝΔΡΗΣ ΓΡΑΦΗΣ ΑΝΕΞΙΤΗΛΟΙ -συνεννόηση (ΜΑΥΡΟ-ΜΠΛΕ-ΚΟΚΚΙΝΟ) | D13: 150
B14: =B13+1 -> 6 | C14: ΜΑΡΚΑΔΟΡΟΙ ΥΠΟΓΡΑΜΜΙΣΗΣ ΚΙΤΡΙΝΟΙ - ΚΟΚΚΙΝΟΙ -ΠΑΣΤΕΛ ΡΟΖ - ΠΟΡΤΟΚΑΛΙ (ΤΥΠΟΥ STABILO) ΣΥΝΕΝΝΟΗΣΗ | D14: 200
B15: =B14+1 -> 7 | C15: ΚΛΑΣΕΡ 8 Χ 34 ΣΥΝΝΕΦΟ | D15: 300
B16: =B15+1 -> 8 | C16: ΣΤΥΛΟ ΤΥΠΟΥ PELECAN STICK (συνεννόηση για χρώματα) | D16: 600
B17: =B16+1 -> 9 | C17: ΨΑΛΙΔΙΑ ΓΡΑΦΕΙΟΥ 21 cm | D17: 50
B18: =B17+1 -> 10 | C18: ΞΥΣΤΡΕΣ ΜΕΤΑΛΙΚΕΣ | D18: 100
B19: =B18+1 -> 11 | C19: ΤΑΙΝΙΕΣ ΣΥΣΚΕΥΑΣΙΑΣ (COLOR ΛΕΥΚΟ ΔΙΑΦΑΝΟ) | D19: 144
B20: =B19+1 -> 12 | C20: ΔΙΟΡΘΩΤΙΚΑ (ΤΥΠΟΥ PRITT ) ΣΕΤ | D20: 100
B21: =B20+1 -> 13 | C21: ΣΥΝΔΕΤΗΡΕΣ 50 mm | D21: 200
... B30: =B29+1 -> 22 | C30: ΧΑΡΤΙ ΠΕΡΙΤΥΛΙΓΜΑΤΟΣ ΚΑΦΕ ΣΕ ΡΟΛΟ 8 ΚΙΛΑ, 80 ΜΕΤΡΑ | D30: 1
B33: ΣΥΝΟΛΟ
B34: ΦΠΑ 24%
B35: ΣΥΝΟΛΟ

Sheet Ε.Φ 204
C2: ΓΡΑΦΙΚΗ ΥΛΗ
C4: ΠΙΝΑΚΑΣ 3
B6: Ε.Φ. 1031-204 0000000 ()
B8: A/A | C8: ΥΛΙΚΑ | D8: ΤΕΜΑΧΙΑ | E8: EKT.ΤΙΜΗ /TEM. | F8: ΣΥΝΟΛΟ ΑΝΑ ΕΙΔΟΣ ΣΕ €
B9: 1 | C9: ΓΟΜΕΣ ΣΧΕΔΙΟΥ ΛΕΥΚΕΣ 20Χ60 | D9: 200
B10: =B9+1 -> 2 | C10: ΦΑΚΕΛΟΙ ΜΕ ΛΑΣΤΙΧΟ | D10: 1000
B11: =B10+1 -> 3 | C11: ΣΕΛΟΤΕΙΠ ΔΙΑΦΑΝΗ 33 mm (ΛΕΥΚΟ ΧΡΩΜΑ) | D11: 200
B12: =B11+1 -> 4 | C12: ΖΕΛΑΤΙΝΕΣ ΤΥΠΟΥ L | D12: 5000
B13: =B12+1 -> 5 | C13: ΖΕΛΑΤΙΝΕΣ ΜΕ ΤΡΥΠΕΣ ΓΙΑ ΚΛΑΣΕΡ | D13: 10000
B14: =B13+1 -> 6 | C14: ΣΤΥΛΟ ΤΥΠΟΥ PELECAN STICK | D14: 1000
B15: =B14+1 -> 7 | C15: ΨΑΛΙΔΙΑ ΓΡΑΦΕΙΟΥ 21 cm | D15: 50
B16: =B15+1 -> 8 | C16: ΜΟΛΥΒΙΑ | D16: 200
B17: =B16+1 -> 9 | C17: ΤΕΤΡΑΔΙΑ 100 φύλλων Α4 ΣΠΥΡΑΛ | D17: 50
B18: =B17+1 -> 10 | C18: ΤΕΤΡΑΔΙΑ 100 φύλλων 17Χ25 ΣΠΥΡΑΛ | D18: 50
B19: =B18+1 -> 11 | C19: USB STICS 8 GB | D19: 50
B20: =B19+1 -> 12 | C20: ΠΙΑΣΤΡΑ (BINBER CLIPS ) 51 mm 40 ΚΟΥΤΙΑ Χ 12 ΤΕΜ | D20: 40 κουτιά
B21: =B20+1 -> 13 | C21: ΜΑΡΚΑΔΟΡΟΙ ΧΟΝΔΡΗΣ ΓΡΑΦΗΣ (ΜΠΛΕ) | D21: 50
B22: =B21+1 -> 14 | C22: ΜΑΡΚΑΔΟΡΟΙ ΥΠΟΓΡΑΜΜΙΣΗΣ ΚΙΤΡΙΝΟΙ (ΤΥΠΟΥ STABILO) | D22: 200
B23: =B22+1 -> 15 | C23: ΣΥΝΔΕΤΗΡΕΣ Νο 4 ( ΤΥΠΟΥ VETO) | D23: 20
B24: =B23+1 -> 16 | C24: ΣΥΡΡΑΠΤΙΚΑ ΧΕΙΡΟΣ 24/6 ( ΤΥΠΟΥ LEITZ) 5549 | D24: 50
B25: =B24+1 -> 17 | C25: ΔΙΟΡΘΩΤΙΚΑ (ΤΥΠΟΥ PRITT ) ΣΕΤ | D25: 180
B26: =B25+1 -> 18 | C26: ΜΠΛΟΚ Α4 ρίγέ 50 φύλλων | D26: 50
B27: =B26+1 -> 19 | C27: ΗΜΕΡΟΛΟΓΙΑ ΓΥΡΙΣΤΑ (2024) | D27: 100
B28: =B27+1 -> 20 | C28: POST-IT 75X75 | D28: 600
B29: =B28+1 -> 21 | C29: ΞΥΣΤΡΕΣ ΜΕΤΑΛΙΚΕΣ | D29: 150
B30: =B29+1 -> 22 | C30: ΣΥΡΡΑΦΙΔΕΣ 24/6 MAESTRI (ΤΥΠΟΥ VETO) | D30: 500
B31: =B30+1 -> 23 | C31: ΤΑΙΝΙΕΣ ΣΥΣΚΕΥΑΣΙΑΣ (ΚΑΦΕ ΧΡΩΜΑΤΟΣ) | D31: 144
B32: =B31+1 -> 24 | C32: ΛΑΣΤΙΧΑ Ν0 120/10 ΣΥΣΚ. 100gr (ΣΑΚΟΥΛΑ) | D32: 100
... B37: =B36+1 -> 29 | C37: ΠΛΑΣΤΙΚΑ ΝΤΟΣΙΕ ΜΕ ΕΛΑΣΜΑ ΜΕ ΔΙΑΦΑΝΕΣ ΕΞΩΦΥΛΛΟ τύπου LEITZ | D37: 1000
B38: ΣΥΝΟΛΟ
B39: ΦΠΑ 24%
B40: ΣΥΝΟΛΟ
B41: Για τα συρραπτικά χειρός απαιτείται προσκόμιση δείγματος με την κατάθεση της προσφοράς.

Sheet Ε.Φ. 207
C2: ΓΡΑΦΙΚΗ ΥΛΗ
C4: ΠΙΝΑΚΑΣ 4
C6: Ε.Φ. 1031-207 0000000
B8: Α/Α | C8: ΕΙΔΟΣ | D8: ΤΕΜΑΧΙΑ | E8: EKT.ΤΙΜΗ /TEM. | F8: ΣΥΝΟΛΟ ΑΝΑ ΕΙΔΟΣ ΣΕ €
B9: 1 | C9: ΓΟΜΕΣ ΣΧΕΔΙΟΥ ΛΕΥΚΕΣ 20Χ60 | D9: 50
B10: =B9+1 -> 2 | C10: ΑΥΤΟΚΟΛΛΗΤΑ ΧΑΡΤΑΚΙΑ (POST IT) 75X75 | D10: 200
B11: =B10+1 -> 3 | C11: ΦΑΚΕΛΟΙ ΜΕ ΛΑΣΤΙΧΟ | D11: 150
B12: =B11+1 -> 4 | C12: ΜΟΛΥΒΙΑ | D12: 200
B13: =B12+1 -> 5 | C13: ΔΙΟΡΘΩΤΙΚΑ (ΤΥΠΟΥ PRITT ) ΣΕΤ | D13: 200
B14: =B13+1 -> 6 | C14: ΠΕΡΦΟΡΑΤΕΡ 30 ΦΥΛΛΩΝ | D14: 6
B15: =B14+1 -> 7 | C15: ΤΕΤΡΑΔΙΑ 100 φύλλων Α4 ΣΠΥΡΑΛ | D15: 100
B16: =B15+1 -> 8 | C16: ΖΕΛΑΤΙΝΕΣ ΤΥΠΟΥ L | D16: 300
B17: =B16+1 -> 9 | C17: ΖΕΛΑΤΙΝΕΣ ΜΕ ΤΡΥΠΕΣ ΓΙΑ ΚΛΑΣΕΡ | D17: 4000
B18: =B17+1 -> 10 | C18: ΚΛΑΣΕΡ 8 Χ 34 ΣΥΝΝΕΦΟ | D18: 120
B19: =B18+1 -> 11 | C19: ΣΤΥΛΟ ΤΥΠΟΥ PELECAN STICK (συνεννόηση για χρώματα) | D19: 500
B20: =B19+1 -> 12 | C20: ΦΑΚΕΛΟΙ ΜΑΝΙΛΑ ΜΕ ΑΥΤΙΑ ΧΡΩΜΑΤΑ | D20: 250
B21: =B20+1 -> 13 | C21: ΣΥΡΡΑΠΤΙΚΑ ΧΕΙΡΟΣ Ν.64 ( ΤΥΠΟΥ LEITZ) | D21: 10
... B28: =B27+1 -> 20 | C28: ΣΥΡΡΑΦΙΔΕΣ 24/6 MAESTRI (ΤΥΠΟΥ VETO) | D28: 500
B30: 21 | C30: ΣΤΥΛΟ ΔΙΑΡΚΕΙΑΣ ΔΙΑΦΑΝΗ pilot 0,7 mm ΚΟΚΚΙΝΟ & ΛΑΣΤΙΧΕΝΙΑ ΛΑΒΗ | D30: 30
B31: =B30+1 -> 22 | C31: ΣΤΥΛΟ ΔΙΑΡΚΕΙΑΣ ΔΙΑΦΑΝΗ pilot 0,7 mm ΜΠΛΕ & ΛΑΣΤΙΧΕΝΙΑ ΛΑΒΗ | D31: 200
B32: =B31+1 -> 23 | C32: Foska ΣΤΥΛΟ ROLLER ΜΕ ΜΠΛΕ ΜΕΛΑΝΙ | D32: 300
B33: =B32+1 -> 24 | C33: ΜΑΡΚΑΔΟΡΟΙ ART LINE 107 ΑΝΞΙΤΗΛΟΙ ΜΕ ΜΕΤΑΛΛΙΚΟ ΠΕΡΙΒΛΗΜΑ, ΣΤΡΟΓΓΥΛΗ ΜΥΤΙ 1,5 mm ( ΚΑΤΑΛΛΗΛΟΣ ΓΙΑ ΓΥΑΛΙ, ΜΕΤΑΛΛΟ, ΧΑΡΤΙ, ΠΛΑΣΤΙΚΟ) | D33: 20
B34: =B33+1 -> 25 | C34: ΜΑΡΚΑΔΟΡΟΙ ΥΠΟΓΡΑΜΜΙΣΕΩΝ (ΚΙΤΡΙΝΟΙ) STABILE 1 ΕΩΣ 4mm | D34: 100
B35: =B34+1 -> 26 | C35: ΑΝΤΑΛΛΑΚΤΙΚΑ ΓΙΑ ΔΙΟΡΘΩΤΙΚΗ ΤΑΙΝΙΑ PRIT 4,2 mm, 14 ΜΕΤΡΑ | D35: 100
B36: =B35+1 -> 27 | C36: ΔΙΟΡΘΩΤΙΚΗ ΤΑΙΝΙΑ PRIT 14 ΜΕΤΡΩΝ 4,2 mm | D36: 100
B37: =B36+1 -> 28 | C37: ΣΥΡΜΑΤΑ ΣΥΡΡΑΦΗΣ ROMEO-MAESTRI No 10 (ΚΟΥΤΙ) | D37: 10
B38: =B37+1 -> 29 | C38: ΣΥΡΜΑΤΑ ΣΥΡΡΑΦΗΣ ROMEO-MAESTRI GLOBAL No 64 1.000 TEMAXIA (ΚΟΥΤΙ) | D38: 20
B39: =B38+1 -> 30 | C39: ΣΥΡΜΑΤΑ ΣΥΡΡΑΦΗΣ ROMEO-MAESTRI No S15 (ΚΟΥΤΙ) | D39: 10
B40: =B39+1 -> 31 | C40: ΣΥΡΜΑΤΑ ΣΥΡΡΑΦΗΣ ROMEO-MAESTRI No S12 (ΚΟΥΤΙ) | D40: 10
B41: =B40+1 -> 32 | C41: ΕΠΙΤΡΑΠΕΖΙΑ ΞΥΣΤΡΑ ΜΕ ΜΑΝΙΒΕΛΑ | D41: 5
B42: =B41+1 -> 33 | C42: ΣΥΡΡΑΠΤΙΚΑ ΜΕΤΑΛΛΙΚΑ ΕΩΣ 12 ΦΥΛΛΑ | D42: 30
... B66: =B65+1 -> 57 | C66: STRETCH FILM 50 cm x 140 m ΔΙΑΦΑΝΟ | D66: 4
B68: ΣΥΝΟΛΟ
B69: ΦΠΑ 24%
B70: ΣΥΝΟΛΟ
B72: ΣΗΜΕΙΩΣΗ
B73: Για τα συρραπτικά χειρός απαιτείται προσκόμιση δείγματος με την κατάθεση της προσφοράς.
C75: ΠΑΡΑΔΟΣΗ
B76: Α. | C76: Για τα υλικά από αύξοντα αριθμό 1-20 η παράδοση θα γίνει
C77: ΠΑΝΟΡΜΟΥ 2
...

Sheet Ε.Φ 208
C2: ΓΡΑΦΙΚΗ ΥΛΗ
C4: ΠΙΝΑΚΑΣ 5
C6: Ε.Φ. 1031-208- 0000000
B8: Α/Α | C8: ΕΙΔΟΣ | D8: ΤΕΜΑΧΙΑ | E8: EKT.ΤΙΜΗ /TEM. | F8: ΣΥΝΟΛΟ ΑΝΑ ΕΙΔΟΣ ΣΕ €
B9: 1 | C9: ΓΟΜΕΣ ΣΧΕΔΙΟΥ ΛΕΥΚΕΣ 20Χ60 | D9: 20
B10: =B9+1 -> 2 | C10: ΑΥΤΟΚΟΛΛΗΤΑ ΧΑΡΤΑΚΙΑ (POST IT) 75X75 | D10: 100
B11: =B10+1 -> 3 | C11: ΦΑΚΕΛΟΙ ΜΕ ΛΑΣΤΙΧΟ (ΜΠΛΕ-ΜΑΥΡΟ-ΜΠΟΡΝΤΟ-ΠΟΡΤΟΚΑΛΙ) | D11: 200
B12: =B11+1 -> 4 | C12: ΔΙΣΚΟΙ ΔΙΑΦΑΝΕΙΣ (ΣΚΑΦΑΚΙΑ) | D12: 2
B13: =B12+1 -> 5 | C13: ΒΑΣΗ ΣΕΛΟΤΕΙΠ ΓΡΑΦΕΙΟΥ (ΤΥΠΟΥ 3Μ) ΓΙΑ ΕΠΑΓΓΕΛΜΑΤΙΚΗ ΧΡΗΣΗ (ΜΑΥΡΟ -ΜΠΛΕ) | D13: 30
B14: =B13+1 -> 6 | C14: ΠΕΡΦΟΡΑΤΕΡ 30 ΦΥΛΛΩΝ | D14: 5
B15: =B14+1 -> 7 | C15: ΥΠΟΔΕΚΑΜΕΤΡΟ 30 cm ΠΛΑΣΤΙΚΟ | D15: 5
B16: =B15+1 -> 8 | C16: ΖΕΛΑΤΙΝΕΣ ΤΥΠΟΥ L | D16: 1000
B17: =B16+1 -> 9 | C17: ΖΕΛΑΤΙΝΕΣ ΜΕ ΤΡΥΠΕΣ ΓΙΑ ΚΛΑΣΕΡ | D17: 1000
B18: =B17+1 -> 10 | C18: ΣΤΥΛΟ ΤΥΠΟΥ PELECAN STICK | D18: 500
B19: =B18+1 -> 11 | C19: ΦΑΚΕΛΟΙ ΜΑΝΙΛΑ ΜΕ ΑΥΤΙΑ ΧΡΩΜΑΤΑ | D19: 100
B20: =B19+1 -> 12 | C20: ΦΑΚΕΛΟΙ ΜΑΝΙΛΑ ΜΕ ΕΛΑΣΜΑ ΧΡΩΜΑΤΑ | D20: 30
B21: =B20+1 -> 13 | C21: ΜΠΑΤΑΡΙΕΣ ΠΛΑΚΕ 9V | D21: 5
... B38: =B37+1 -> 30 | C38: ΠΛΗΚΤΡΟΛΟΓΙΟ ΓΡΑΦΕΙΟΥ ΕΝΣΥΡΜΑΤΟ | D38: 20
B41: ΣΥΝΟΛΟ
B42: ΦΠΑ 24%
B43: ΣΥΝΟΛΟ
B45: ΣΗΜΕΙΩΣΗ
B46: Για τα συρραπτικά χειρός απαιτείται προσκόμιση δείγματος με την κατάθεση της προσφοράς.

Sheet Ε.Φ. 501 
C2: ΓΡΑΦΙΚΗ ΥΛΗ
C4: ΠΙΝΑΚΑΣ 6
C6: Ε.Φ. 1031-501 0000000
B9: Α/Α | C9: ΕΙΔΟΣ | D9: ΤΕΜΑΧΙΑ | E9: EKT.ΤΙΜΗ /TEM. | F9: ΣΥΝΟΛΟ ΑΝΑ ΕΙΔΟΣ ΣΕ €
B10: 1 | C10: ΓΟΜΕΣ ΣΧΕΔΙΟΥ ΛΕΥΚΕΣ 20Χ60 | D10: 50
B11: =B10+1 -> 2 | C11: ΑΥΤΟΚΟΛΛΗΤΑ ΧΑΡΤΑΚΙΑ (POST IT) 75X75 | D11: 500
B12: =B11+1 -> 3 | C12: ΤΕΤΡΑΔΙΑ 100 φύλλων Α4 ΣΠΥΡΑΛ | D12: 50
B13: =B12+1 -> 4 | C13: ΚΛΑΣΕΡ 8 Χ 34 ΣΥΝΝΕΦΟ | D13: 500
B14: 5 | C14: ΣΤΥΛΟ ΤΥΠΟΥ PELECAN STICK (ΜΠΛΕ -ΚΟΚΚΙΝΑ) | D14: 500
B15: =B14+1 -> 6 | C15: ΠΕΡΦΟΡΑΤΕΡ 30 ΦΥΛΛΩΝ | D15: 10
B16: =B15+1 -> 7 | C16: ΖΕΛΑΤΙΝΕΣ ΤΥΠΟΥ L | D16: 2000
B17: =B16+1 -> 8 | C17: ΖΕΛΑΤΙΝΕΣ ΜΕ ΤΡΥΠΕΣ ΓΙΑ ΚΛΑΣΕΡ | D17: 2500
B18: =B17+1 -> 9 | C18: ΑΠΟΣΥΡΡΑΠΤΙΚΑ | D18: 5
B19: =B18+1 -> 10 | C19: ΣΥΝΔΕΤΗΡΕΣ Νο 4 ( ΤΥΠΟΥ VETO) | D19: 300
B20: =B19+1 -> 11 | C20: ΣΥΡΡΑΠΤΙΚΑ ΧΕΙΡΟΣ Ν.64 ( ΤΥΠΟΥ LEITZ) | D20: 35
B21: =B20+1 -> 12 | C21: ΣΥΡΡΑΠΤΙΚΑ ΧΕΙΡΟΣ 24/6 ( ΤΥΠΟΥ LEITZ) 5549 | D21: 35
B22: =B21+1 -> 13 | C22: ΣΕΛΙΔΟΔΕΙΚΤΕΣ πέντε χρωμάτων 45Χ12 cm | D22: 30
B23: =B22+1 -> 14 | C23: ΜΑΡΚΑΔΟΡΟΙ ΧΟΝΔΡΗΣ ΓΡΑΦΗΣ (ΜΑΥΡΟΙ-ΜΠΛΕ) | D23: 150
B24: =B23+1 -> 15 | C24: ΜΑΡΚΑΔΟΡΟΙ ΥΠΟΓΡΑΜΜΙΣΗΣ ΚΙΤΡΙΝΟΙ - ΚΟΚΚΙΝΟΙ -ΠΑΣΤΕΛ ΡΟΖ - ΠΟΡΤΟΚΑΛΙ (ΤΥΠΟΥ STABILO) | D24: 100
B25: =B24+1 -> 16 | C25: ΜΟΛΥΒΙΑ | D25: 100
B26: =B25+1 -> 17 | C26: ΞΥΣΤΡΕΣ ΜΕΤΑΛΙΚΕΣ | D26: 50
B27: =B26+1 -> 18 | C27: USB STICS 8 GB | D27: 50
B28: =B27+1 -> 19 | C28: ΠΙΑΣΤΡΑ (BINBER CLIPS ) 41 mm | D28: 40 κουτιά
B29: =B28+1 -> 20 | C29: ΣΥΝΔΕΤΗΡΕΣ 50 mm | D29: 150
B30: =B29+1 -> 21 | C30: ΦΑΚΕΛΟΙ ΜΕ ΛΑΣΤΙΧΟ (ΜΠΛΕ -ΠΟΡΤΟΚΑΛΙ-ΜΠΟΡΝΤΟ) | D30: 1000
B31: =B30+1 -> 22 | C31: ΦΑΚΕΛΟΙ ΣΑΚΟΥΛΑ ΜΠΕΖ 25Χ35 ΛΟΓΟΤΥΠΟ ΥΠΟΥΡΓΕΙΟΥ | D31: 5000
B32: =B31+1 -> 23 | C32: ΦΑΚΕΛΟΙ ΣΑΚΟΥΛΑ ΜΠΕΖ 30Χ40 ΛΟΓΟΤΥΠΟ ΥΠΟΥΡΓΕΙΟΥ | D32: 2500
B33: =B32+1 -> 24 | C33: ΦΑΚΕΛΟΙ ΣΑΚΟΥΛΑ ΜΠΕΖ 16Χ23 ΛΟΓΟΤΥΠΟ ΥΠΟΥΡΓΕΙΟΥ | D33: 3000
B34: =B33+1 -> 25 | C34: ΦΑΚΕΛΟΙ ΠΑΝΟΔΕΤΟΙ ΜΕ ΠΤΕΡΥΓΙΑ 25Χ35Χ9 | D34: 1000
B35: =B34+1 -> 26 | C35: ΕΠΙΤΡΑΠΕΖΙΟ ΣΥΡΡΑΠΤΙΚΟ 240 φύλλων | D35: 6
B36: =B35+1 -> 27 | C36: ΦΑΚΕΛΟΙ ΜΑΝΙΛΑ ΜΕ ΑΥΤΙΑ ΧΡΩΜΑΤΑ | D36: 150
B37: =B36+1 -> 28 | C37: ΣΥΡΡΑΦΙΔΕΣ Ν 64 (ΤΥΠΟΥ VETO) | D37: 500
B38: =B37+1 -> 29 | C38: ΗΜΕΡΟΛΟΓΙΑ ΓΥΡΙΣΤΑ (2024) | D38: 250
B39: =B38+1 -> 30 | C39: ΣΗΜΑΙΕΣ ΕΛΛΗΝΙΚΕΣ ΔΙΑΣΤΑΣΕΙΣ. 1,20 Χ 2,00 | D39: 10
B40: =B39+1 -> 31 | C40: ΣΗΜΑΙΕΣ Ε.Ε - ΔΙΑΣΤΑΣΕΙΣ 1,20 Χ 2,00 | D40: 6
... B43: =B42+1 -> 34 | C43: ΦΑΚΕΛΟΙ ΜΑΝΙΛΑ ME AYTIA (ΔΙΚΟΓΡΑΦΙΑΣ) 25 Χ 35 cm ( ΘΑ ΔΟΘΕΙ ΔΕΙΓΜΑ) 5.000 ΧΡΩΜΑ ΠΡΑΣΙΝΟ & 1.000 ΧΡΩΜΑ ΡΟΖ ΓΡΑΦΕΙΟ ΝΟΜΙΚΟΥ ΣΥΜΒΟΥΛΟΥ ΑΜΑΛΙΑΔΟΣ 29 ΤΗΛ. 2106430571 | D43: 6000
B46: ΣΥΝΟΛΟ
B47: ΦΠΑ 24%
B48: ΣΥΝΟΛΟ
B50: ΣΗΜΕΙΩΣΗ
...

Sheet Ε.Φ 209

Sheet 1

Sheet ΣΥΝΟΛΙΚΑ ΠΟΣΑ
B5: ΣΥΝΟΛΙΚΑ ΠΟΣΑ ΓΡΑΦΙΚΗΣ ΥΛΗΣ
B9: Ε.Φ. | C9: Χωρίς ΦΠΑ | D9: ΦΠΑ 24% | E9: Με ΦΠΑ 24%
B11: Ε.Φ. 101 | C11: ='Ε.Φ. 101'!F35 -> 0 | D11: =C11*24% -> 0 | E11: =C11+D11 -> 0
B12: Ε.Φ. 203 | C12: ='Ε.Φ 203'!F33 -> 0 | D12: =C12*24% -> 0 | E12: =C12+D12 -> 0
B13: Ε.Φ. 204 | C13: ='Ε.Φ 204'!F38 -> 0 | D13: =C13*24% -> 0 | E13: =C13+D13 -> 0
B14: Ε.Φ. 207 | C14: ='Ε.Φ. 207'!F68 -> 0 | D14: =C14*24% -> 0 | E14: =C14+D14 -> 0
B15: Ε.Φ. 208 | C15: ='Ε.Φ 208'!F41 -> 0 | D15: =C15*24% -> 0 | E15: =C15+D15 -> 0
B16: Ε.Φ. 501 | C16: ='Ε.Φ. 501 '!F46 -> 0 | D16: =C16*24% -> 0 | E16: =C16+D16 -> 0
C18: =SUM(C11:C17) -> 0 | D18: =SUM(D11:D17) -> 0 | E18: =C18+D18 -> 0
